BEGIN:VCALENDAR
VERSION:2.0
PRODID:-//Squarespace Inc/Squarespace 6//v6//EN
BEGIN:VEVENT
UID:69adf916f944ed0aba172788@squarespace.com
DTSTAMP:20260308T223537Z
DTSTART:20260327T230000Z
DTEND:20260328T080000Z
SUMMARY:SYDNEY UNI VS. BONDI CUP
END:VEVENT
END:VCALENDAR
